BEGIN:VCALENDAR
VERSION:2.0
PRODID:-//Tantramar Regional High School - ECPv6.15.20//NONSGML v1.0//EN
CALSCALE:GREGORIAN
METHOD:PUBLISH
X-ORIGINAL-URL:https://trhs.nbed.ca
X-WR-CALDESC:Events for Tantramar Regional High School
REFRESH-INTERVAL;VALUE=DURATION:PT1H
X-Robots-Tag:noindex
X-PUBLISHED-TTL:PT1H
BEGIN:VTIMEZONE
TZID:America/Moncton
BEGIN:DAYLIGHT
TZOFFSETFROM:-0400
TZOFFSETTO:-0300
TZNAME:ADT
DTSTART:20250309T060000
END:DAYLIGHT
BEGIN:STANDARD
TZOFFSETFROM:-0300
TZOFFSETTO:-0400
TZNAME:AST
DTSTART:20251102T050000
END:STANDARD
BEGIN:DAYLIGHT
TZOFFSETFROM:-0400
TZOFFSETTO:-0300
TZNAME:ADT
DTSTART:20260308T060000
END:DAYLIGHT
BEGIN:STANDARD
TZOFFSETFROM:-0300
TZOFFSETTO:-0400
TZNAME:AST
DTSTART:20261101T050000
END:STANDARD
BEGIN:DAYLIGHT
TZOFFSETFROM:-0400
TZOFFSETTO:-0300
TZNAME:ADT
DTSTART:20270314T060000
END:DAYLIGHT
BEGIN:STANDARD
TZOFFSETFROM:-0300
TZOFFSETTO:-0400
TZNAME:AST
DTSTART:20271107T050000
END:STANDARD
END:VTIMEZONE
BEGIN:VEVENT
DTSTART;VALUE=DATE:20260413
DTEND;VALUE=DATE:20260414
DTSTAMP:20260421T003128
CREATED:20260421T001022Z
LAST-MODIFIED:20260421T001741Z
UID:2428-1776038400-1776124799@trhs.nbed.ca
SUMMARY:Horizons Student Leadership Conference
DESCRIPTION:
URL:https://trhs.nbed.ca/event/horizons-student-leadership-conference/
LOCATION:RHS
END:VEVENT
BEGIN:VEVENT
DTSTART;TZID=America/Moncton:20260414T143000
DTEND;TZID=America/Moncton:20260414T150000
DTSTAMP:20260421T003128
CREATED:20260421T001213Z
LAST-MODIFIED:20260421T001213Z
UID:2431-1776177000-1776178800@trhs.nbed.ca
SUMMARY:Grad Class Meeting
DESCRIPTION:
URL:https://trhs.nbed.ca/event/grad-class-meeting-2/
LOCATION:TRHS Theatre
END:VEVENT
BEGIN:VEVENT
DTSTART;TZID=America/Moncton:20260415T120000
DTEND;TZID=America/Moncton:20260415T124500
DTSTAMP:20260421T003128
CREATED:20260421T001418Z
LAST-MODIFIED:20260421T001418Z
UID:2435-1776254400-1776257100@trhs.nbed.ca
SUMMARY:Titan RUSH HOUR- Dragon Boat Fundraiser
DESCRIPTION:
URL:https://trhs.nbed.ca/event/titan-rush-hour-dragon-boat-fundraiser/
LOCATION:TRHS gym
END:VEVENT
BEGIN:VEVENT
DTSTART;TZID=America/Moncton:20260415T183000
DTEND;TZID=America/Moncton:20260415T200000
DTSTAMP:20260421T003128
CREATED:20260421T001253Z
LAST-MODIFIED:20260421T001253Z
UID:2433-1776277800-1776283200@trhs.nbed.ca
SUMMARY:Spring Variety Show
DESCRIPTION:
URL:https://trhs.nbed.ca/event/spring-variety-show/
LOCATION:TRHS Theatre
END:VEVENT
BEGIN:VEVENT
DTSTART;TZID=America/Moncton:20260416T110000
DTEND;TZID=America/Moncton:20260416T120000
DTSTAMP:20260421T003128
CREATED:20260421T001557Z
LAST-MODIFIED:20260421T001557Z
UID:2437-1776337200-1776340800@trhs.nbed.ca
SUMMARY:TRHS Solar Panel Presentation & Launch
DESCRIPTION:
URL:https://trhs.nbed.ca/event/trhs-solar-panel-presentation-launch/
LOCATION:TRHS Theatre
END:VEVENT
BEGIN:VEVENT
DTSTART;VALUE=DATE:20260420
DTEND;VALUE=DATE:20260425
DTSTAMP:20260421T003128
CREATED:20260421T001703Z
LAST-MODIFIED:20260421T001703Z
UID:2439-1776643200-1777075199@trhs.nbed.ca
SUMMARY:Spring Theme Week
DESCRIPTION:The SRC has organized a theme week from April 20th-24th:\n\nMonday: Muddy Puddles (wear brown)\nTuesday: Meme Day (dress as your favourite meme)\nWednesday: Pastel Day (wear pastels)\nThursday: Celebrity Day \nFriday: Cozy Day
URL:https://trhs.nbed.ca/event/spring-theme-week/
LOCATION:Tantramar Regional High School\, Canada
END:VEVENT
BEGIN:VEVENT
DTSTART;TZID=America/Moncton:20260423T070000
DTEND;TZID=America/Moncton:20260423T210000
DTSTAMP:20260421T003128
CREATED:20260421T002206Z
LAST-MODIFIED:20260421T002206Z
UID:2443-1776927600-1776978000@trhs.nbed.ca
SUMMARY:Girls Rugby vs. RHS
DESCRIPTION:
URL:https://trhs.nbed.ca/event/girls-rugby-vs-rhs-2/
LOCATION:MTA Alumni Field
END:VEVENT
BEGIN:VEVENT
DTSTART;TZID=America/Moncton:20260428T060000
DTEND;TZID=America/Moncton:20260428T200000
DTSTAMP:20260421T003128
CREATED:20260421T002601Z
LAST-MODIFIED:20260421T002601Z
UID:2448-1777356000-1777406400@trhs.nbed.ca
SUMMARY:Varsity Girls Volleyball
DESCRIPTION:6pm- TRHS vs. MMFR\n7pm- TRHS vs. MMFR
URL:https://trhs.nbed.ca/event/varsity-girls-volleyball-2/
LOCATION:TRHS gym
END:VEVENT
BEGIN:VEVENT
DTSTART;VALUE=DATE:20260429
DTEND;VALUE=DATE:20260430
DTSTAMP:20260421T003128
CREATED:20260309T030855Z
LAST-MODIFIED:20260309T030855Z
UID:2372-1777420800-1777507199@trhs.nbed.ca
SUMMARY:Terrific Titans Nominations due
DESCRIPTION:
URL:https://trhs.nbed.ca/event/terrific-titans-nominations-due-3/
LOCATION:Tantramar Regional High School\, Canada
END:VEVENT
BEGIN:VEVENT
DTSTART;TZID=America/Moncton:20260429T190000
DTEND;TZID=America/Moncton:20260429T203000
DTSTAMP:20260421T003128
CREATED:20260421T000228Z
LAST-MODIFIED:20260421T000228Z
UID:2415-1777489200-1777494600@trhs.nbed.ca
SUMMARY:TRHS PSSC Meeting
DESCRIPTION:Parent School Support Committee Meeting
URL:https://trhs.nbed.ca/event/trhs-pssc-meeting/
LOCATION:Tantramar Regional High School\, Canada
END:VEVENT
BEGIN:VEVENT
DTSTART;TZID=America/Moncton:20260430T070000
DTEND;TZID=America/Moncton:20260430T080000
DTSTAMP:20260421T003128
CREATED:20260421T002427Z
LAST-MODIFIED:20260421T002427Z
UID:2445-1777532400-1777536000@trhs.nbed.ca
SUMMARY:Grad Breakfast
DESCRIPTION:
URL:https://trhs.nbed.ca/event/grad-breakfast/
LOCATION:Patterson’s Family Restaurant
END:VEVENT
BEGIN:VEVENT
DTSTART;VALUE=DATE:20260501
DTEND;VALUE=DATE:20260502
DTSTAMP:20260421T003128
CREATED:20260309T032730Z
LAST-MODIFIED:20260309T032730Z
UID:2394-1777593600-1777679999@trhs.nbed.ca
SUMMARY:NBTA Subject Council Day- No School for Students
DESCRIPTION:Staff professional learning day
URL:https://trhs.nbed.ca/event/nbta-subject-council-day-no-school-for-students-2/
END:VEVENT
BEGIN:VEVENT
DTSTART;VALUE=DATE:20260511
DTEND;VALUE=DATE:20260515
DTSTAMP:20260421T003128
CREATED:20260421T003248Z
LAST-MODIFIED:20260421T003248Z
UID:2456-1778457600-1778803199@trhs.nbed.ca
SUMMARY:TADD Week
DESCRIPTION:
URL:https://trhs.nbed.ca/event/tadd-week/
LOCATION:Tantramar Regional High School\, Canada
END:VEVENT
BEGIN:VEVENT
DTSTART;TZID=America/Moncton:20260514T180000
DTEND;TZID=America/Moncton:20260514T220000
DTSTAMP:20260421T003128
CREATED:20260421T003156Z
LAST-MODIFIED:20260421T003156Z
UID:2454-1778781600-1778796000@trhs.nbed.ca
SUMMARY:Grad Night
DESCRIPTION:
URL:https://trhs.nbed.ca/event/grad-night/
LOCATION:Tantramar Regional High School\, Canada
END:VEVENT
BEGIN:VEVENT
DTSTART;VALUE=DATE:20260515
DTEND;VALUE=DATE:20260516
DTSTAMP:20260421T003128
CREATED:20260309T032822Z
LAST-MODIFIED:20260309T032822Z
UID:2396-1778803200-1778889599@trhs.nbed.ca
SUMMARY:NBTA Branch Day- No School for Students
DESCRIPTION:
URL:https://trhs.nbed.ca/event/nbta-branch-day-no-school-for-students-2/
END:VEVENT
BEGIN:VEVENT
DTSTART;VALUE=DATE:20260518
DTEND;VALUE=DATE:20260519
DTSTAMP:20260421T003128
CREATED:20260309T032906Z
LAST-MODIFIED:20260309T033052Z
UID:2398-1779062400-1779148799@trhs.nbed.ca
SUMMARY:Victoria Day- No School for Students
DESCRIPTION:
URL:https://trhs.nbed.ca/event/victoria-day-no-school-for-students/
END:VEVENT
BEGIN:VEVENT
DTSTART;TZID=America/Moncton:20260523T190000
DTEND;TZID=America/Moncton:20260523T233000
DTSTAMP:20260421T003128
CREATED:20260421T001926Z
LAST-MODIFIED:20260421T002012Z
UID:2441-1779562800-1779579000@trhs.nbed.ca
SUMMARY:Fire & Ice Fundraiser (19+)
DESCRIPTION:
URL:https://trhs.nbed.ca/event/fire-ice-fundraiser-19/
LOCATION:Tantramar Regional High School\, Canada
END:VEVENT
BEGIN:VEVENT
DTSTART;VALUE=DATE:20260527
DTEND;VALUE=DATE:20260528
DTSTAMP:20260421T003128
CREATED:20260309T033319Z
LAST-MODIFIED:20260309T033319Z
UID:2405-1779840000-1779926399@trhs.nbed.ca
SUMMARY:Terrific Titans Nominations due
DESCRIPTION:
URL:https://trhs.nbed.ca/event/terrific-titans-nominations-due-4/
LOCATION:Tantramar Regional High School\, Canada
END:VEVENT
BEGIN:VEVENT
DTSTART;TZID=America/Moncton:20260527T113000
DTEND;TZID=America/Moncton:20260527T150000
DTSTAMP:20260421T003128
CREATED:20260309T033520Z
LAST-MODIFIED:20260309T033520Z
UID:2407-1779881400-1779894000@trhs.nbed.ca
SUMMARY:ASDE Indigenous Graduation Ceremony
DESCRIPTION:
URL:https://trhs.nbed.ca/event/asde-indigenous-graduation-ceremony/
END:VEVENT
BEGIN:VEVENT
DTSTART;TZID=America/Moncton:20260529T150000
DTEND;TZID=America/Moncton:20260529T200000
DTSTAMP:20260421T003128
CREATED:20260309T033159Z
LAST-MODIFIED:20260309T033159Z
UID:2400-1780066800-1780084800@trhs.nbed.ca
SUMMARY:HS Dragon Boat Races
DESCRIPTION:
URL:https://trhs.nbed.ca/event/hs-dragon-boat-races/
LOCATION:Jones Lake\, Moncton
END:VEVENT
BEGIN:VEVENT
DTSTART;TZID=America/Moncton:20260603T190000
DTEND;TZID=America/Moncton:20260603T203000
DTSTAMP:20260421T003128
CREATED:20260309T033634Z
LAST-MODIFIED:20260309T033634Z
UID:2409-1780513200-1780518600@trhs.nbed.ca
SUMMARY:Parent School Support Committee
DESCRIPTION:
URL:https://trhs.nbed.ca/event/parent-school-support-committee-2/
LOCATION:Tantramar Regional High School\, Canada
END:VEVENT
BEGIN:VEVENT
DTSTART;VALUE=DATE:20260608
DTEND;VALUE=DATE:20260613
DTSTAMP:20260421T003128
CREATED:20260309T033725Z
LAST-MODIFIED:20260309T033725Z
UID:2411-1780876800-1781308799@trhs.nbed.ca
SUMMARY:Final Assessment Week
DESCRIPTION:
URL:https://trhs.nbed.ca/event/final-assessment-week-3/
END:VEVENT
BEGIN:VEVENT
DTSTART;TZID=America/Moncton:20260617T083000
DTEND;TZID=America/Moncton:20260617T113000
DTSTAMP:20260421T003128
CREATED:20260421T002727Z
LAST-MODIFIED:20260421T002727Z
UID:2450-1781685000-1781695800@trhs.nbed.ca
SUMMARY:Grad Rehearsal
DESCRIPTION:
URL:https://trhs.nbed.ca/event/grad-rehearsal-3/
LOCATION:Convocation Hall\, MTA
END:VEVENT
BEGIN:VEVENT
DTSTART;TZID=America/Moncton:20260620T100000
DTEND;TZID=America/Moncton:20260620T120000
DTSTAMP:20260421T003128
CREATED:20260421T002811Z
LAST-MODIFIED:20260421T002811Z
UID:2452-1781949600-1781956800@trhs.nbed.ca
SUMMARY:Graduation Ceremony
DESCRIPTION:
URL:https://trhs.nbed.ca/event/graduation-ceremony/
LOCATION:Convocation Hall\, MTA
END:VEVENT
END:VCALENDAR